BEGIN:VCALENDAR
VERSION:2.0
PRODID:-//I Love To Be Selling - ECPv6.15.20//NONSGML v1.0//EN
CALSCALE:GREGORIAN
METHOD:PUBLISH
X-ORIGINAL-URL:https://ilovetobeselling.com
X-WR-CALDESC:Events for I Love To Be Selling
REFRESH-INTERVAL;VALUE=DURATION:PT1H
X-Robots-Tag:noindex
X-PUBLISHED-TTL:PT1H
BEGIN:VTIMEZONE
TZID:America/New_York
BEGIN:DAYLIGHT
TZOFFSETFROM:-0500
TZOFFSETTO:-0400
TZNAME:EDT
DTSTART:20250309T070000
END:DAYLIGHT
BEGIN:STANDARD
TZOFFSETFROM:-0400
TZOFFSETTO:-0500
TZNAME:EST
DTSTART:20251102T060000
END:STANDARD
BEGIN:DAYLIGHT
TZOFFSETFROM:-0500
TZOFFSETTO:-0400
TZNAME:EDT
DTSTART:20260308T070000
END:DAYLIGHT
BEGIN:STANDARD
TZOFFSETFROM:-0400
TZOFFSETTO:-0500
TZNAME:EST
DTSTART:20261101T060000
END:STANDARD
BEGIN:DAYLIGHT
TZOFFSETFROM:-0500
TZOFFSETTO:-0400
TZNAME:EDT
DTSTART:20270314T070000
END:DAYLIGHT
BEGIN:STANDARD
TZOFFSETFROM:-0400
TZOFFSETTO:-0500
TZNAME:EST
DTSTART:20271107T060000
END:STANDARD
END:VTIMEZONE
BEGIN:VEVENT
DTSTART;TZID=America/New_York:20260407T110000
DTEND;TZID=America/New_York:20260407T143000
DTSTAMP:20260424T154757
CREATED:20260324T013346Z
LAST-MODIFIED:20260331T221717Z
UID:59927-1775559600-1775572200@ilovetobeselling.com
SUMMARY:In Person: eBay Seller Tools\, AI Strategies & Buyer Messaging to Increase Sales!
DESCRIPTION:Calling all Northeast eBay sellers! 📣 Mark your calendars for our powerhouse in-person meeting this April! \nJosh Dzime-Assison the CMO of Vendoo kicks us off with expert tips on current ecommerce trends and how to increase our sales with cross listing! \nNext\, level up your selling game with valuable insights from Patrick\, Director of Product\, Reviews & Messaging\, and his team! 🚀 \n✨ Breaking news on AI and buyer-seller messaging\n📩 Exciting messaging updates with new features to streamline communication\n🤖 AI updates for sellers — right in the selling flow and messaging\nPatrick always brings real-time projects he’s working on\, and we get to vote and share feedback — super helpful and hands-on! 🙌 \n❓ Plenty of time for Q&A\nThis meetup is a fantastic opportunity to:\n• 🤝 Network with fellow Northeast eBay sellers\n• 🎓 Learn from a senior eBay team member\n• 📈 Stay ahead with the latest eBay tools and features\nLooking forward to seeing you there! Space is limited. Sellers of all levels are encouraged to attend. Information presented will include tips for new to advanced sellers. \nWe will meet in person at the eBay Manhattan Chelsea We will have ample time for your questions. eBay Community and Vendoo are supplying seller SWAG for all attendees.\n1 week before event an email will go out with address of event in Chelsea and the check in procedure\, Photo ID is required to gain access to the building. \n\n\n\n\n\n\n\n\n Respond by Mon\, Mar 30 · 5:00 PM \n🔗    Sign up Here \n\n Tuesday\, Apr 7 · 11:00 AM to 2:30 PM EDT \n\n\nChelsea New York\, NY\n\n 
URL:https://ilovetobeselling.com/event/n-person-ebay-seller-tools-ai-strategies-buyer-messaging-to-increase-sales/
LOCATION:eBay Manhattan Chelsea Office\, NY\, United States
CATEGORIES:eBay,eCommerce
END:VEVENT
END:VCALENDAR