BEGIN:VCALENDAR
VERSION:2.0
PRODID:-//I Love To Be Selling - ECPv6.15.20//NONSGML v1.0//EN
CALSCALE:GREGORIAN
METHOD:PUBLISH
X-ORIGINAL-URL:https://ilovetobeselling.com
X-WR-CALDESC:Events for I Love To Be Selling
REFRESH-INTERVAL;VALUE=DURATION:PT1H
X-Robots-Tag:noindex
X-PUBLISHED-TTL:PT1H
BEGIN:VTIMEZONE
TZID:America/New_York
BEGIN:DAYLIGHT
TZOFFSETFROM:-0500
TZOFFSETTO:-0400
TZNAME:EDT
DTSTART:20240310T070000
END:DAYLIGHT
BEGIN:STANDARD
TZOFFSETFROM:-0400
TZOFFSETTO:-0500
TZNAME:EST
DTSTART:20241103T060000
END:STANDARD
BEGIN:DAYLIGHT
TZOFFSETFROM:-0500
TZOFFSETTO:-0400
TZNAME:EDT
DTSTART:20250309T070000
END:DAYLIGHT
BEGIN:STANDARD
TZOFFSETFROM:-0400
TZOFFSETTO:-0500
TZNAME:EST
DTSTART:20251102T060000
END:STANDARD
BEGIN:DAYLIGHT
TZOFFSETFROM:-0500
TZOFFSETTO:-0400
TZNAME:EDT
DTSTART:20260308T070000
END:DAYLIGHT
BEGIN:STANDARD
TZOFFSETFROM:-0400
TZOFFSETTO:-0500
TZNAME:EST
DTSTART:20261101T060000
END:STANDARD
END:VTIMEZONE
BEGIN:VEVENT
DTSTART;TZID=America/New_York:20250909T110000
DTEND;TZID=America/New_York:20250909T140000
DTSTAMP:20260424T233452
CREATED:20250818T020422Z
LAST-MODIFIED:20250823T001237Z
UID:59623-1757415600-1757426400@ilovetobeselling.com
SUMMARY:In person eBay NYC Meetup Circle: Celebrate 30 years of eBay!
DESCRIPTION:Details\n\n\nJoin us for an epic time to celebrate eBay’s 30th birthday!. Enjoy live eBay staff speakers\, an exciting seller roundtable\, awesome SWAG\, delicious snacks\, and fun raffles. \nGet ready for three hours of eBay selling information for attendees of all levels of eBay experience. And there is plenty of breaks for networking with fellow sellers! \nOne week before the event you will be emailed the event location and check in instructions. Photo ID is required to gain access to the building. \nSpaces are limited.\nSponsored by eBay
URL:https://ilovetobeselling.com/event/in-person-ebay-nyc-meetup-circle-celebrate-30-years-of-ebay/
LOCATION:eBay Manhattan Chelsea Office\, NY\, United States
CATEGORIES:eBay
END:VEVENT
END:VCALENDAR